BEGIN:VCALENDAR
VERSION:2.0
PRODID:icalendar-ruby
CALSCALE:GREGORIAN
METHOD:PUBLISH
BEGIN:VEVENT
DTSTAMP:20260423T013355Z
UID:24-1378624@fbcprague.org
DTSTART:20261014T230000Z
DTEND:20261015T000000Z
CLASS:PUBLIC
CREATED:20260422T190611
DESCRIPTION:Midweek\, Youth\, Adult Bible Study
LAST-MODIFIED:20260422T190611
LOCATION:
SUMMARY:Midweek\, Youth\, Adult Bible Study
URL;VALUE=URI:https://fbcprague.org/events/midweek-youth-adult-bible-study/
 2026-10-14
ATTACH;FILENAME=children-16.jpg;FMTTYPE=image/jpeg:https://dq5pwpg1q8ru0.cl
 oudfront.net/2025/03/19/18/39/16/f0f43b5d-b460-42f2-860a-a0bf35aa94a1/chil
 dren-16.jpg
END:VEVENT
END:VCALENDAR
