BEGIN:VCALENDAR
VERSION:2.0
PRODID:icalendar-ruby
CALSCALE:GREGORIAN
METHOD:PUBLISH
BEGIN:VEVENT
DTSTAMP:20260424T130430Z
UID:25-1382434@fbcprague.org
DTSTART:20261011T153000Z
DTEND:20261011T163000Z
CLASS:PUBLIC
CREATED:20260424T073029
DESCRIPTION:Morning Worship
LAST-MODIFIED:20260424T073029
LOCATION:Sanctuary
SUMMARY:Morning Worship
URL;VALUE=URI:https://fbcprague.org/events/morning-worship--25/2026-10-11
END:VEVENT
END:VCALENDAR
