BEGIN:VCALENDAR
VERSION:2.0
PRODID:icalendar-ruby
CALSCALE:GREGORIAN
METHOD:PUBLISH
BEGIN:VEVENT
DTSTAMP:20260424T144607Z
UID:25-1382435@fbcprague.org
DTSTART:20261018T153000Z
DTEND:20261018T163000Z
CLASS:PUBLIC
CREATED:20260424T073029
DESCRIPTION:Morning Worship
LAST-MODIFIED:20260424T073029
LOCATION:Sanctuary
SUMMARY:Morning Worship
URL;VALUE=URI:https://fbcprague.org/events/morning-worship--25/2026-10-18
END:VEVENT
END:VCALENDAR
