BEGIN:VCALENDAR
VERSION:2.0
PRODID:icalendar-ruby
CALSCALE:GREGORIAN
METHOD:PUBLISH
BEGIN:VEVENT
DTSTAMP:20260424T162211Z
UID:25-1382902@fbcprague.org
DTSTART:20261025T153000Z
DTEND:20261025T163000Z
CLASS:PUBLIC
CREATED:20260424T102316
DESCRIPTION:Morning Worship
LAST-MODIFIED:20260424T102316
LOCATION:Sanctuary
SUMMARY:Morning Worship
URL;VALUE=URI:https://fbcprague.org/events/morning-worship--25/2026-10-25
END:VEVENT
END:VCALENDAR
