BEGIN:VCALENDAR
VERSION:2.0
PRODID:icalendar-ruby
CALSCALE:GREGORIAN
METHOD:PUBLISH
BEGIN:VEVENT
DTSTAMP:20260424T180929Z
UID:25-1383369@fbcprague.org
DTSTART:20261101T163000Z
DTEND:20261101T173000Z
CLASS:PUBLIC
CREATED:20260424T130923
DESCRIPTION:Morning Worship
LAST-MODIFIED:20260424T130923
LOCATION:Sanctuary
SUMMARY:Morning Worship
URL;VALUE=URI:https://fbcprague.org/events/morning-worship--25/2026-11-01
END:VEVENT
END:VCALENDAR
