BEGIN:VCALENDAR
VERSION:2.0
PRODID:icalendar-ruby
CALSCALE:GREGORIAN
METHOD:PUBLISH
BEGIN:VEVENT
DTSTAMP:20260424T220556Z
UID:19-1383575@fbcprague.org
DTSTART:20260927T230000Z
DTEND:20260928T000000Z
CLASS:PUBLIC
CREATED:20260424T155658
DESCRIPTION:Sunday Night Services
LAST-MODIFIED:20260424T155658
LOCATION:
SUMMARY:Sunday Night Services
URL;VALUE=URI:https://fbcprague.org/events/sunday-night-services/2026-09-27
ATTACH;FILENAME=smallgroups-14.jpg;FMTTYPE=image/jpeg:https://dq5pwpg1q8ru0
 .cloudfront.net/2025/03/13/14/57/00/518c0ef2-d602-4c01-9512-2e647c215bc7/s
 mallgroups-14.jpg
END:VEVENT
END:VCALENDAR
